BEGIN:VCALENDAR
VERSION:2.0
PRODID:-//eventon.com NONSGML v1.0//EN
CALSCALE:GREGORIAN
METHOD:PUBLISH
BEGIN:VEVENT
UID:69e9f2e00107a
DTSTAMP:20260423T102224Z
DTSTART:20260504T070000Z
DTEND:20260508T120000Z
LOCATION:TÉCNICAS Y SERVICIOS DE INGENIERÍA S.L. Domicilio Avda. Pío XII\,  44 Bajo Izda. Edificio Pyomar Torre 2
SUMMARY:Analista de Vibraciones Categoría I (ISO 18436-2)
DESCRIPTION:Objetivos del curso: Certificación de Analista de Vibraciones 
 Categoría I mediante la capacitación de los asistentes en: Conocimientos 
 básicos necesarios para la verificación del estado de maquinaria rotativa
  mediante el análisis de vibraciones. Conocimientos básicos sobre la cade
 na de medida\,  procesamiento de señales\,  análisis y diagnóstico\,  no
 rmativas de referencia\,  acciones[..]\nhttps://tsisl.es/en/events/cat-i-vi
 bration-analyst-category-i/
URL:https://tsisl.es/en/events/cat-i-vibration-analyst-category-i/
END:VEVENT
END:VCALENDAR